Workbook

Sheet Мерилки
A1: РПО 2017 | F1: СВИДЕТЕЛЬСТВО № | I1: =CONCATENATE(B3,".01") -> .01 | J1: Стр.1 | K1: СВИДЕТЕЛЬСТВО № | N1: =I1 -> .01 | O1: Протокол обмера | R1: Стр.2
D2: Класс | F2: Измерения в метрах и килограммах | K2: Корпус | O2: Постоянные грузы
A3: RUS | D3: =INT(457468*H17^(-1.475)) -> #DIV/0! | F3: Тип и стр. № | K3: DSPL | O3: Балласт | Q3: Якоря
D4: ФУТ(а:ов) | F4: Конструктор | K4: LOA | M4: BMAX | O4: Двигатель | Q4: Инст. и ЗИП
A5: Подтверждаю,что понимаю | D5: Подтверждаю | F5: Строитель | K5: FGO | M5: TWLлев | O5: Топл.бак | Q5: Газ. баллон
A6: ответственность, налагаемую | D6: Представитель ТК | F6: Дата вооружения | K6: AGO | M6: TWLправ | O6: Аккумул. | Q6: Водяные емк
A7: правилами РПО | D7: Фамилия | F7: Киль | K7: Результаты кренования
A8: Фамилия | F8: Винт | J8: =IF(H9="Подвесной мотор",0,IF(H8="Литой",0.005,0)) -> 0 | K8: W1 | M8: PD1 | O8: RM1 | P8: =L8*L12*N13*0.0175/N8 -> #DIV/0!
F9: Установка | J9: =IF(H9="Без двигателя",1,IF(H9="Подвесной мотор",0.995,IF(H9="Привод в кронштейне",0.99,IF(H9="Открытый вал",0.98,IF(H9="Закрытый вал",0.97,IF(H9="В вырезе",0.96,"Установка ? ")))))) -> Установка ? | K9: W2 | M9: PD2 | O9: RM2 | P9: =L9*L12*N13*0.0175/N9 -> #DIV/0!
F10: Срок действия | K10: W3 | M10: PD3 | O10: RM3 | P10: =L10*L12*N13*0.0175/N10 -> #DIV/0!
K11: W4 | M11: PD4 | O11: RM4 | P11: =L11*L12*N13*0.0175/N11 -> #DIV/0!
A12: Владелец | K12: WD | M12: PLM | O12: RM | P12: =AVERAGE(P8:P11) -> #DIV/0!
K13: GSA | M13: PL | N13: =N12/(1+L13/L14) -> #DIV/0! | O13: SV | P13: =3.281*((0.03*B17*B18^3*1025.8-54*P12)/L3-0.0625*B17)+0.25 -> #DIV/0!
K14: RSA | M14: Дата обмера на плаву
A15: Расчетные значения | K15: Паруса
A16: Корпус | C16: Площадь парусов | E16: Площадь смоченной поверхности корпуса | G16: SQ | K16: Грот | M16: Стаксель | O16: Спинакер | Q16: Генакер
A17: LWL | B17: =L4-L5-L6 -> 0 | C17: Sгр | D17: =0.125*L17*(L19+2*L20+3*L21+2*L18) -> 0 | G17: GPH | H17: =3600/(0.5*( D26+F26)) -> #DIV/0! | I17: VMGлав | J17: =I24 -> #DIV/0! | K17: P | M17: JL | O17: SL | Q17: SLU
A18: BWL | B18: =N4-N5-N6 -> 0 | C18: Sст | D18: =N17*N18*0.5 -> 0 | E18: Ώсмоч | F18: =0.85*B17*B18 -> 0 | G18: VMG | H18: =3600/H17 -> #DIV/0! | I18: VMGпол | J18: =I25 -> #DIV/0! | K18: E | M18: LPG | O18: SMG | Q18: SLE
A19: КПВ | B19: =IF(H6>2012,1,IF(H6>2008,0.995,0.99)) -> 0.99 | C19: Sсп | D19: =0.5*P19*P17+2*(P18-0.5*P19)*P17/3 -> 0 | K19: HB | O19: SF | P19: =0.8*P18 -> 0 | Q19: ASF
A20: EPF | B20: =J9-J8 -> #VALUE! | C20: Sгн | D20: =(0.5*(R17+R18)*(R19+4*R20))/6 -> 0 | K20: MGU | Q20: AMG
A21: КВЧ | B21: =IF(H7="шверт",1.005,1) -> 1 | C21: Sпол | D21: =D17+MAX(D19,D18,D20) -> 0 | K21: MGM
C22: Sлав | D22: =D17+D18 -> 0 | E22: Скорость ветра в узлах | J22: VMGсред
A23: Тип дистанции | C23: 6 | D23: 8 | E23: 10 | F23: 12 | G23: 14 | H23: 16 | I23: 20 | J23: =AVERAGE(J24:J30) -> #DIV/0! | K23: Предупреждение | M23: =IF(P13>-0.25,"SV непригодно для категории гонок 0,1,2 и3"," ") -> #DIV/0!
A24: №1 100% лавировки | C24: =SQRT(C23/I23)*I24 -> #DIV/0! | D24: =SQRT(D23/I23)*I24 -> #DIV/0! | E24: =SQRT(E23/I23)*I24 -> #DIV/0! | F24: =SQRT(F23/I23)*I24 -> #DIV/0! | G24: =SQRT(G23/I23)*I24 -> #DIV/0! | H24: =SQRT(H23/I23)*I24 -> #DIV/0! | I24: =(D22^(0.25)/((0.001*L3)^(1/6)))*SQRT(B17)*B19*B20 -> #DIV/0! | J24: =AVERAGE(C24:I24) -> #DIV/0! | K24: Меритель
A25: №2 без лавировки | C25: =SQRT(C23/I23)*SQRT(D21/(SQRT(0.9)*F18))*SQRT(B17)*B19*B20*B21 -> #DIV/0! | D25: =SQRT(D23/I23)*SQRT(D21/(0.6*F18))*SQRT(B17)*B19*B20*B21 -> #DIV/0! | E25: =SQRT(E23/I23)*SQRT(D21/(0.5*F18))*SQRT(B17)*B19*B20*B21 -> #DIV/0! | F25: =SQRT(F23/I23)*SQRT(D21/(0.41*F18))*SQRT(B17)*B19*B20*B21 -> #DIV/0! | G25: =SQRT(G23/I23)*SQRT(D21/(0.4*F18))*SQRT(B17)*B19*B20*B21 -> #DIV/0! | H25: =SQRT(H23/I23)*SQRT(D21/(0.39*F18))*SQRT(B17)*B19*B20*B21 -> #DIV/0! | I25: =SQRT(D21/(0.38*F18))*SQRT(B17)*B19*B20*B21 -> #DIV/0! | J25: =AVERAGE(C25:I25) -> #DIV/0! | K25: Дата обмера
A26: №3 50% лавировки | C26: =0.5*(C24+C25) -> #DIV/0! | D26: =0.5*(D24+D25) -> #DIV/0! | E26: =0.5*(E24+E25) -> #DIV/0! | F26: =0.5*(F24+F25) -> #DIV/0! | G26: =0.5*(G24+G25) -> #DIV/0! | H26: =0.5*(H24+H25) -> #DIV/0! | I26: =0.5*(I24+I25) -> #DIV/0! | J26: =AVERAGE(C26:I26) -> #DIV/0! | K26: Дата расчета
A27: №4 85% лавировки | C27: =0.85*C24+0.15*C25 -> #DIV/0! | D27: =0.85*D24+0.15*D25 -> #DIV/0! | E27: =0.85*E24+0.15*E25 -> #DIV/0! | F27: =0.85*F24+0.15*F25 -> #DIV/0! | G27: =0.85*G24+0.15*G25 -> #DIV/0! | H27: =0.85*H24+0.15*H25 -> #DIV/0! | I27: =0.85*I24+0.15*I25 -> #DIV/0! | J27: =AVERAGE(C27:I27) -> #DIV/0! | K27: Подпись
A28: №5 75% лавировки | C28: =0.75*C24+0.25*C25 -> #DIV/0! | D28: =0.75*D24+0.25*D25 -> #DIV/0! | E28: =0.75*E24+0.25*E25 -> #DIV/0! | F28: =0.75*F24+0.25*F25 -> #DIV/0! | G28: =0.75*G24+0.25*G25 -> #DIV/0! | H28: =0.75*H24+0.25*H25 -> #DIV/0! | I28: =0.75*I24+0.25*I25 -> #DIV/0! | J28: =AVERAGE(C28:I28) -> #DIV/0!
A29: №6 25% лавировки | C29: =0.25*C24+0.75*C25 -> #DIV/0! | D29: =0.25*D24+0.75*D25 -> #DIV/0! | E29: =0.25*E24+0.75*E25 -> #DIV/0! | F29: =0.25*F24+0.75*F25 -> #DIV/0! | G29: =0.25*G24+0.75*G25 -> #DIV/0! | H29: =0.25*H24+0.75*H25 -> #DIV/0! | I29: =0.25*I24+0.75*I25 -> #DIV/0! | J29: =AVERAGE(C29:I29) -> #DIV/0!
A30: №7 15% лавировки | C30: =0.15*C24+0.85*C25 -> #DIV/0! | D30: =0.15*D24+0.85*D25 -> #DIV/0! | E30: =0.15*E24+0.85*E25 -> #DIV/0! | F30: =0.15*F24+0.85*F25 -> #DIV/0! | G30: =0.15*G24+0.85*G25 -> #DIV/0! | H30: =0.15*H24+0.85*H25 -> #DIV/0! | I30: =0.15*I24+0.85*I25 -> #DIV/0! | J30: =AVERAGE(C30:I30) -> #DIV/0! | Q30: РПО 2017
A31: 1 | B31: Нижний Новгород
A32: РПО 2017 | F32: СВИДЕТЕЛЬСТВО № | I32: =CONCATENATE(B34,".01") -> 211.01 | J32: Стр.1 | K32: СВИДЕТЕЛЬСТВО № | N32: =I32 -> 211.01 | O32: Протокол обмера | R32: Стр.2
A33: СКИФ | D33: Класс | F33: Измерения в метрах и килограммах | K33: Корпус | O33: Постоянные грузы
A34: RUS | B34: 211 | D34: =INT(457468*H48^(-1.475)) -> 36 | F34: Тип и стр. № | H34: Опен-800 № | K34: DSPL | O34: Балласт | Q34: Якоря
D35: ФУТ(А или ОВ) | F35: Конструктор | K35: LOA | M35: BMAX | O35: Двигатель | Q35: Инст. и ЗИП
A36: Подтверждаю,что понимаю | D36: Подтверждаю | F36: Строитель | K36: FGO | M36: TWLлев | O36: Топл.бак | Q36: Газ. баллон
A37: ответственность, налагаемую | D37: Представитель ТК | F37: Дата вооружения | K37: AGO | M37: TWLправ | O37: Аккумул. | Q37: Водяные емк
A38: правилами РПО | D38: Фамилия | F38: Киль | K38: Результаты кренования
A39: Фамилия | F39: Винт | K39: W1 | M39: PD1 | O39: RM1 | P39: =L39*L43*N44*0.0175/N39 -> #DIV/0!
F40: Установка | K40: W2 | M40: PD2 | O40: RM2 | P40: =L40*L43*N44*0.0175/N40 -> #DIV/0!
...

Sheet Расчет
A4: дист. D= | B4: 7 | D4: Гонка №1
A5: № пп | B5: Название | D5: Рег. Номер | E5: Тип яхты | F5: Сист. Обмера | G5: Класс | H5: Vтеор(уз) | I5: Старт | J5: Финиш | K5: ЕТ | L5: Vфакт | M5: НГ | N5: Место | O5: приход
A6: 1 | B6: =Мерилки!A33 -> СКИФ | D6: =Мерилки!B34 -> 211 | E6: GP-26 | F6: Правила класса | G6: 36 футов | H6: =Мерилки!H49 -> 6.0508317 | I6: 0.53125 | J6: 0.5809375 | K6: =(J6-I6)*24 -> 1.1925 | L6: =B4/K6 -> 5.870021 | M6: =L6/H6 -> 0.97011804 | N6: 1 | O6: 1 | P6: 1 | Q6: 0.97011804
A7: 2 | B7: =Мерилки!A64 -> ФЛАМИНГО | D7: =Мерилки!B65 -> 555 | E7: ОПЕН-800 | F7: ORC | G7: 33 фута | H7: =Мерилки!H80 -> 5.6610265 | I7: 0.53125 | J7: 0.58900463 | K7: =(J7-I7)*24 -> 1.3861111 | L7: =B4/K7 -> 5.0501002 | M7: =L7/H7 -> 0.89208206 | N7: 7 | O7: 2 | P7: 2 | Q7: 0.95152842
A8: 3 | B8: =Мерилки!A95 -> EK-MARINE | D8: =Мерилки!B96 -> 215 | E8: First-27,7 | F8: РПО | G8: 33 фута | H8: =Мерилки!H111 -> 5.6364134 | I8: 0.53125 | J8: 0.60710648 | K8: =(J8-I8)*24 -> 1.8205556 | L8: =B4/K8 -> 3.8449802 | M8: =L8/H8 -> 0.68216788 | N8: 10 | O8: 10 | P8: 3 | Q8: 0.9263566
A9: 4 | B9: =Мерилки!A126 -> СИЛУЭТ | D9: =Мерилки!B127 -> 1435 | E9: Картер-30 | F9: РПО | G9: 29 футов | H9: =Мерилки!H142 -> 5.2232147 | I9: 0.53125 | J9: 0.59424769 | K9: =(J9-I9)*24 -> 1.5119444 | L9: =B4/K9 -> 4.6297997 | M9: =L9/H9 -> 0.88638894 | N9: 8 | O9: 4 | P9: 4 | Q9: 0.92329436
A10: 5 | B10: =Мерилки!A157 -> КРЕДО | D10: =Мерилки!B158 -> 581 | E10: Картер-30 | F10: RS-2000 | G10: 29 футов | H10: =Мерилки!H173 -> 5.2006729 | I10: 0.53125 | J10: 0.59381944 | K10: =(J10-I10)*24 -> 1.5016667 | L10: =B4/K10 -> 4.6614872 | M10: =L10/H10 -> 0.89632387 | N10: 6 | O10: 3 | P10: 5 | Q10: 0.92201351
A11: 6 | B11: АФРИКА | D11: 169 | E11: ОПЕН-800 | F11: Прототип | G11: 33 фута | H11: 5.6610265 | I11: 0.53125 | J11: 0.59564815 | K11: =(J11-I11)*24 -> 1.5455556 | L11: =B4/K11 -> 4.5291157 | M11: =L11/H11 -> 0.80005202 | N11: 9 | O11: 5 | P11: 6 | Q11: 0.89632387
A12: 7 | B12: =Мерилки!A188 -> МИР | D12: =Мерилки!B189 -> 1138 | E12: Конрад-25РТ | F12: РПО | G12: 25 футов | H12: 4.7442327 | I12: 0.53125 | J12: 0.59783565 | K12: =(J12-I12)*24 -> 1.5980556 | L12: =B4/K12 -> 4.3803233 | M12: =L12/H12 -> 0.92329436 | N12: 4 | O12: 8 | P12: 7 | Q12: 0.89208206
A13: 8 | B13: =Мерилки!A219 -> АККОРД | D13: =Мерилки!B220 -> 1069 | E13: Конрад 25Р | F13: РПО | G13: 25 футов | H13: 4.7566615 | I13: 0.53125 | J13: 0.59744213 | K13: =(J13-I13)*24 -> 1.5886111 | L13: =B4/K13 -> 4.4063647 | M13: =L13/H13 -> 0.9263566 | N13: 3 | O13: 7 | P13: 8 | Q13: 0.88638894
A14: 9 | B14: =Мерилки!A250 -> АСТРА | D14: =Мерилки!B251 -> 1247 | E14: Конрад-25РТ | F14: РПО | G14: 25 футов | H14: 4.7048689 | I14: 0.53125 | J14: 0.59640046 | K14: =(J14-I14)*24 -> 1.5636111 | L14: =B4/K14 -> 4.4768165 | M14: =L14/H14 -> 0.95152842 | N14: 2 | O14: 6 | P14: 9 | Q14: 0.80005202
A15: 10 | B15: СВЕТЛОЯР | D15: 1059 | E15: 1/4 ТЭВСС | F15: РПО | G15: 24 фута | H15: 4.53936 | I15: 0.53125 | J15: 0.6009375 | K15: =(J15-I15)*24 -> 1.6725 | L15: =B4/K15 -> 4.1853513 | M15: =L15/H15 -> 0.92201351 | N15: 5 | O15: 9 | P15: 10 | Q15: 0.68216788
A16: 11 | B16: ОКА | D16: 2107 | E16: OPTY-71 | F16: РПО | G16: 24 фута | H16: 4.5732393 | I16: DNS | K16: =(J16-I16)*24 -> #VALUE! | L16: =B4/K16 -> #VALUE! | M16: =L16/H16 -> #VALUE! | P16: 11 | Q16: #VALUE!
A18: дист. D= | B18: 7 | D18: Гонка №2
A19: № пп | B19: Название | D19: Рег. Номер | E19: Тип яхты | F19: Сист. Обмера | G19: Класс | H19: Vтеор(уз) | I19: Старт | J19: Финиш | K19: ЕТ | L19: Vфакт | M19: НГ | N19: Место | O19: приход
A20: 1 | B20: СКИФ | D20: 211 | E20: GP-26 | F20: Правила класса | G20: 36 футов | H20: 6.0508317 | I20: 0.52430556 | J20: 0.58008102 | K20: =(J20-I20)*24 -> 1.3386111 | L20: =B18/K20 -> 5.2293007 | M20: =L20/H20 -> 0.86422842 | N20: 8 | O20: 1 | P20: 1 | Q20: 0.9767392
A21: 2 | B21: ФЛАМИНГО | D21: 555 | E21: ОПЕН-800 | F21: ORC | G21: 33 фута | H21: 5.6610265 | I21: 0.52430556 | J21: 0.59078704 | K21: =(J21-I21)*24 -> 1.5955556 | L21: =B18/K21 -> 4.3871866 | M21: =L21/H21 -> 0.77498076 | N21: 10 | O21: 7 | P21: 2 | Q21: 0.9528739
A22: 3 | B22: EK-MARINE | D22: 215 | E22: First-27,7 | F22: РПО | G22: 33 фута | H22: 5.6364134 | I22: 0.52430556 | J22: 0.61112269 | K22: =(J22-I22)*24 -> 2.0836111 | L22: =B18/K22 -> 3.3595521 | M22: =L22/H22 -> 0.5960443 | N22: 11 | O22: 11 | P22: 3 | Q22: 0.93868795
A23: 4 | B23: СИЛУЭТ | D23: 1435 | E23: Картер-30 | F23: РПО | G23: 29 футов | H23: 5.2232147 | I23: 0.52430556 | J23: 0.58789352 | K23: =(J23-I23)*24 -> 1.5261111 | L23: =B18/K23 -> 4.586822 | M23: =L23/H23 -> 0.87816072 | N23: 7 | O23: 5 | P23: 4 | Q23: 0.91329307
A24: 5 | B24: КРЕДО | D24: 581 | E24: Картер-30 | F24: RS-2000 | G24: 29 футов | H24: 5.2006729 | I24: 0.52430556 | J24: 0.58733796 | K24: =(J24-I24)*24 -> 1.5127778 | L24: =B18/K24 -> 4.6272494 | M24: =L24/H24 -> 0.88974051 | N24: 6 | O24: 4 | P24: 5 | Q24: 0.90214757
A25: 6 | B25: АФРИКА | D25: 169 | E25: ОПЕН-800 | F25: Прототип | G25: 33 фута | H25: 5.6610265 | I25: 0.52430556 | J25: 0.58717593 | K25: =(J25-I25)*24 -> 1.5088889 | L25: =B18/K25 -> 4.6391753 | M25: =L25/H25 -> 0.81949364 | N25: 9 | O25: 3 | P25: 6 | Q25: 0.88974051
A26: 7 | B26: МИР | D26: 1138 | E26: Конрад-25РТ | F26: IOR | G26: 25 футов | H26: 4.7442327 | I26: 0.52430556 | J26: 0.59162037 | K26: =(J26-I26)*24 -> 1.6155556 | L26: =B18/K26 -> 4.3328748 | M26: =L26/H26 -> 0.91329307 | N26: 4 | O26: 8 | P26: 7 | Q26: 0.87816072
A27: 8 | B27: АККОРД | D27: 1069 | E27: Конрад 25Р | F27: РПО | G27: 25 футов | H27: 4.7566615 | I27: 0.52430556 | J27: 0.58708333 | K27: =(J27-I27)*24 -> 1.5066667 | L27: =B18/K27 -> 4.6460177 | M27: =L27/H27 -> 0.9767392 | N27: 1 | O27: 2 | P27: 8 | Q27: 0.86422842
A28: 9 | B28: АСТРА | D28: 1247 | E28: Конрад-25РТ | F28: РПО | G28: 25 футов | H28: 4.7048689 | I28: 0.52430556 | J28: 0.59034722 | K28: =(J28-I28)*24 -> 1.585 | L28: =B18/K28 -> 4.4164038 | M28: =L28/H28 -> 0.93868795 | N28: 3 | O28: 6 | P28: 9 | Q28: 0.81949364
A29: 10 | B29: СВЕТЛОЯР | D29: 1059 | E29: 1/4 ТЭВСС | F29: РПО | G29: 24 фута | H29: 4.53936 | I29: 0.52430556 | J29: 0.59173611 | K29: =(J29-I29)*24 -> 1.6183333 | L29: =B18/K29 -> 4.3254377 | M29: =L29/H29 -> 0.9528739 | N29: 2 | O29: 9 | P29: 10 | Q29: 0.77498076
A30: 11 | B30: ОКА | D30: 2107 | E30: OPTY-71 | F30: РПО | G30: 24 фута | H30: 4.5732393 | I30: 0.52430556 | J30: 0.595 | K30: =(J30-I30)*24 -> 1.6966667 | L30: =B18/K30 -> 4.1257367 | M30: =L30/H30 -> 0.90214757 | N30: 5 | O30: 10 | P30: 11 | Q30: 0.5960443
A32: дист. D= | B32: 7 | D32: Гонка №3
A33: № пп | B33: Название | D33: Рег. Номер | E33: Тип яхты | F33: Сист. Обмера | G33: Класс | H33: Vтеор(уз) | I33: Старт | J33: Финиш | K33: ЕТ | L33: Vфакт | M33: НГ | N33: Место | O33: приход
A34: 1 | B34: СКИФ | D34: 211 | E34: GP-26 | F34: Правила класса | G34: 36 футов | H34: 6.0508317 | I34: 0.625 | J34: 0.67934028 | K34: =(J34-I34)*24 -> 1.3041667 | L34: =B32/K34 -> 5.3674121 | M34: =L34/H34 -> 0.88705362 | N34: 10 | O34: 1 | P34: 1 | Q34: 1.0234616
A35: 2 | B35: ФЛАМИНГО | D35: 555 | E35: ОПЕН-800 | F35: ORC | G35: 33 фута | H35: 5.6610265 | I35: 0.625 | J35: 0.68100694 | K35: =(J35-I35)*24 -> 1.3441667 | L35: =B32/K35 -> 5.2076875 | M35: =L35/H35 -> 0.91991929 | N35: 8 | O35: 3 | P35: 2 | Q35: 1.0229304
A36: 3 | B36: EK-MARINE | D36: 215 | E36: First-27,7 | F36: РПО | G36: 33 фута | H36: 5.6364134 | I36: 0.625 | J36: 0.71394676 | K36: =(J36-I36)*24 -> 2.1347222 | L36: =B32/K36 -> 3.2791152 | M36: =L36/H36 -> 0.58177336 | N36: 11 | O36: 11 | P36: 3 | Q36: 1.0186675
A37: 4 | B37: СИЛУЭТ | D37: 1435 | E37: Картер-30 | F37: РПО | G37: 29 футов | H37: 5.2232147 | I37: 0.625 | J37: 0.68508102 | K37: =(J37-I37)*24 -> 1.4419444 | L37: =B32/K37 -> 4.854556 | M37: =L37/H37 -> 0.92941918 | N37: 7 | O37: 5 | P37: 4 | Q37: 1.0112299
A38: 5 | B38: КРЕДО | D38: 581 | E38: Картер-30 | F38: RS-2000 | G38: 29 футов | H38: 5.2006729 | I38: 0.625 | J38: 0.68077546 | K38: =(J38-I38)*24 -> 1.3386111 | L38: =B32/K38 -> 5.2293007 | M38: =L38/H38 -> 1.0055046 | N38: 6 | O38: 2 | P38: 5 | Q38: 1.0092556
A39: 6 | B39: АФРИКА | D39: 169 | E39: ОПЕН-800 | F39: Прототип | G39: 33 фута | H39: 5.6610265 | I39: 0.625 | J39: 0.68280093 | K39: =(J39-I39)*24 -> 1.3872222 | L39: =B32/K39 -> 5.0460553 | M39: =L39/H39 -> 0.89136753 | N39: 9 | O39: 4 | P39: 6 | Q39: 1.0055046
A40: 7 | B40: МИР | D40: 1138 | E40: Конрад-25РТ | F40: IOR | G40: 25 футов | H40: 4.7442327 | I40: 0.625 | J40: 0.68591435 | K40: =(J40-I40)*24 -> 1.4619444 | L40: =B32/K40 -> 4.7881436 | M40: =L40/H40 -> 1.0092556 | N40: 5 | O40: 8 | P40: 7 | Q40: 0.92941918
A41: 8 | B41: АККОРД | D41: 1069 | E41: Конрад 25Р | F41: РПО | G41: 25 футов | H41: 4.7566615 | I41: 0.625 | J41: 0.68563657 | K41: =(J41-I41)*24 -> 1.4552778 | L41: =B32/K41 -> 4.8100783 | M41: =L41/H41 -> 1.0112299 | N41: 4 | O41: 6 | P41: 8 | Q41: 0.91991929
A42: 9 | B42: АСТРА | D42: 1247 | E42: Конрад-25РТ | F42: РПО | G42: 25 футов | H42: 4.7048689 | I42: 0.625 | J42: 0.68585648 | K42: =(J42-I42)*24 -> 1.4605556 | L42: =B32/K42 -> 4.7926968 | M42: =L42/H42 -> 1.0186675 | N42: 3 | O42: 7 | P42: 9 | Q42: 0.89136753
A43: 10 | B43: СВЕТЛОЯР | D43: 1059 | E43: 1/4 ТЭВСС | F43: РПО | G43: 24 фута | H43: 4.53936 | I43: 0.625 | J43: 0.6878125 | K43: =(J43-I43)*24 -> 1.5075 | L43: =B32/K43 -> 4.6434494 | M43: =L43/H43 -> 1.0229304 | N43: 2 | O43: 10 | P43: 10 | Q43: 0.88705362
A44: 11 | B44: ОКА | D44: 2107 | E44: OPTY-71 | F44: РПО | G44: 24 фута | H44: 4.5732393 | I44: 0.625 | J44: 0.68731481 | K44: =(J44-I44)*24 -> 1.4955556 | L44: =B32/K44 -> 4.6805349 | M44: =L44/H44 -> 1.0234616 | N44: 1 | O44: 9 | P44: 11 | Q44: 0.58177336
A46: дист. D= | B46: 7 | D46: Гонка №4
...

Sheet Классификация
B1: 1052 | C1: 1010 | D1: 972 | E1: 936.3 | F1: 904.5 | G1: 875 | H1: 847.5 | I1: 822.5 | J1: 798.7 | K1: 769 | L1: 749 | M1: 737 | N1: 720 | O1: 703 | P1: 687 | Q1: 671.5 | R1: 657.5 | S1: 644 | T1: 631 | U1: 618.6 | V1: 606.8 | W1: 595.6 | X1: 585 | Y1: 574.5 | Z1: 565 | AA1: 555.5 | AB1: 546.5 | AC1: 537.9 | AD1: 529.4 | AE1: 521.4 | AF1: 513.6 | AG1: 506.1 | AH1: 499 | AI1: 492 | AJ1: 485.3 | AK1: 478.6 | AL1: 472.4 | AM1: 466.3 | AN1: 460.4 | AO1: 454.8 | AP1: 449.1 | AQ1: 443.8 | AR1: 438.6 | AS1: 433.5 | AT1: 428.5 | AU1: 424.2 | AV1: 419.5 | AW1: 415 | AX1: 410.6 | AY1: 406.5 | AZ1: 402.4 | BA1: 398.3 | BB1: 394.3 | BC1: 390.4 | BD1: 386.7
B2: 16 | C2: 17 | D2: 18 | E2: 19 | F2: 20 | G2: 21 | H2: 22 | I2: 23 | J2: 24 | K2: 25 | L2: 26 | M2: 27 | N2: 28 | O2: 29 | P2: 30 | Q2: 31 | R2: 32 | S2: 33 | T2: 34 | U2: 35 | V2: 36 | W2: 37 | X2: 38 | Y2: 39 | Z2: 40 | AA2: 41 | AB2: 42 | AC2: 43 | AD2: 44 | AE2: 45 | AF2: 46 | AG2: 47 | AH2: 48 | AI2: 49 | AJ2: 50 | AK2: 51 | AL2: 52 | AM2: 53 | AN2: 54 | AO2: 55 | AP2: 56 | AQ2: 57 | AR2: 58 | AS2: 59 | AT2: 60 | AU2: 61 | AV2: 62 | AW2: 63 | AX2: 64 | AY2: 65 | AZ2: 66 | BA2: 67 | BB2: 68 | BC2: 69 | BD2: 70
A4: =INT(457468*A5^(-1.475)) -> 36
A5: 595
E18: 0.69 | F18: 0.52 | G18: 0.44 | H18: 0.385 | I18: 0.35 | J18: 0.323 | L18: 0.29
B19: 0 | C19: 2 | D19: 4 | E19: 6 | F19: 8 | G19: 10 | H19: 12 | I19: 14 | J19: 16 | K19: 18 | L19: 20
