Workbook

Sheet Мерилки
A1: РПО 2017 | F1: СВИДЕТЕЛЬСТВО № | I1: =CONCATENATE(B3,".01") -> .01 | J1: Стр.1 | K1: СВИДЕТЕЛЬСТВО № | N1: =I1 -> .01 | O1: Протокол обмера | R1: Стр.2
D2: Класс | F2: Измерения в метрах и килограммах | K2: Корпус | O2: Постоянные грузы
A3: RUS | D3: =INT(457468*H17^(-1.475)) -> #DIV/0! | F3: Тип и стр. № | K3: DSPL | O3: Балласт | Q3: Якоря
D4: ФУТ(а:ов) | F4: Конструктор | K4: LOA | M4: BMAX | O4: Двигатель | Q4: Инст. и ЗИП
A5: Подтверждаю,что понимаю | D5: Подтверждаю | F5: Строитель | K5: FGO | M5: TWLлев | O5: Топл.бак | Q5: Газ. баллон
A6: ответственность, налагаемую | D6: Представитель ТК | F6: Дата вооружения | K6: AGO | M6: TWLправ | O6: Аккумул. | Q6: Водяные емк
A7: правилами РПО | D7: Фамилия | F7: Киль | K7: Результаты кренования
A8: Фамилия | F8: Винт | J8: =IF(H9="Подвесной мотор",0,IF(H8="Литой",0.005,0)) -> 0 | K8: W1 | M8: PD1 | O8: RM1 | P8: =L8*L12*N13*0.0175/N8 -> #DIV/0!
F9: Установка | J9: =IF(H9="Без двигателя",1,IF(H9="Подвесной мотор",0.995,IF(H9="Привод в кронштейне",0.99,IF(H9="Открытый вал",0.98,IF(H9="Закрытый вал",0.97,IF(H9="В вырезе",0.96,"Установка ? ")))))) -> Установка ? | K9: W2 | M9: PD2 | O9: RM2 | P9: =L9*L12*N13*0.0175/N9 -> #DIV/0!
F10: Срок действия | K10: W3 | M10: PD3 | O10: RM3 | P10: =L10*L12*N13*0.0175/N10 -> #DIV/0!
K11: W4 | M11: PD4 | O11: RM4 | P11: =L11*L12*N13*0.0175/N11 -> #DIV/0!
A12: Владелец | K12: WD | M12: PLM | O12: RM | P12: =AVERAGE(P8:P11) -> #DIV/0!
K13: GSA | M13: PL | N13: =N12/(1+L13/L14) -> #DIV/0! | O13: SV | P13: =3.281*((0.03*B17*B18^3*1025.8-54*P12)/L3-0.0625*B17)+0.25 -> #DIV/0!
K14: RSA | M14: Дата обмера на плаву
A15: Расчетные значения | K15: Паруса
A16: Корпус | C16: Площадь парусов | E16: Площадь смоченной поверхности корпуса | G16: SQ | K16: Грот | M16: Стаксель | O16: Спинакер | Q16: Генакер
A17: LWL | B17: =L4-L5-L6 -> 0 | C17: Sгр | D17: =0.125*L17*(L19+2*L20+3*L21+2*L18) -> 0 | G17: GPH | H17: =3600/(0.5*( D26+F26)) -> #DIV/0! | I17: VMGлав | J17: =I24 -> #DIV/0! | K17: P | M17: JL | O17: SL | Q17: SLU
A18: BWL | B18: =N4-N5-N6 -> 0 | C18: Sст | D18: =N17*N18*0.5 -> 0 | E18: Ώсмоч | F18: =0.85*B17*B18 -> 0 | G18: VMG | H18: =3600/H17 -> #DIV/0! | I18: VMGпол | J18: =I25 -> #DIV/0! | K18: E | M18: LPG | O18: SMG | Q18: SLE
A19: КПВ | B19: =IF(H6>2012,1,IF(H6>2008,0.995,0.99)) -> 0.99 | C19: Sсп | D19: =0.5*P19*P17+2*(P18-0.5*P19)*P17/3 -> 0 | K19: HB | O19: SF | P19: =0.8*P18 -> 0 | Q19: ASF
A20: EPF | B20: =J9-J8 -> #VALUE! | C20: Sгн | D20: =(0.5*(R17+R18)*(R19+4*R20))/6 -> 0 | K20: MGU | Q20: AMG
A21: КВЧ | B21: =IF(H7="шверт",1.005,1) -> 1 | C21: Sпол | D21: =D17+MAX(D19,D18,D20) -> 0 | K21: MGM
C22: Sлав | D22: =D17+D18 -> 0 | E22: Скорость ветра в узлах | J22: VMGсред
A23: Тип дистанции | C23: 6 | D23: 8 | E23: 10 | F23: 12 | G23: 14 | H23: 16 | I23: 20 | J23: =AVERAGE(J24:J30) -> #DIV/0! | K23: Предупреждение | M23: =IF(P13>-0.25,"SV непригодно для категории гонок 0,1,2 и3"," ") -> #DIV/0!
A24: №1 100% лавировки | C24: =SQRT(C23/I23)*I24 -> #DIV/0! | D24: =SQRT(D23/I23)*I24 -> #DIV/0! | E24: =SQRT(E23/I23)*I24 -> #DIV/0! | F24: =SQRT(F23/I23)*I24 -> #DIV/0! | G24: =SQRT(G23/I23)*I24 -> #DIV/0! | H24: =SQRT(H23/I23)*I24 -> #DIV/0! | I24: =(D22^(0.25)/((0.001*L3)^(1/6)))*SQRT(B17)*B19*B20 -> #DIV/0! | J24: =AVERAGE(C24:I24) -> #DIV/0! | K24: Меритель
A25: №2 без лавировки | C25: =SQRT(C23/I23)*SQRT(D21/(SQRT(0.9)*F18))*SQRT(B17)*B19*B20*B21 -> #DIV/0! | D25: =SQRT(D23/I23)*SQRT(D21/(0.6*F18))*SQRT(B17)*B19*B20*B21 -> #DIV/0! | E25: =SQRT(E23/I23)*SQRT(D21/(0.5*F18))*SQRT(B17)*B19*B20*B21 -> #DIV/0! | F25: =SQRT(F23/I23)*SQRT(D21/(0.41*F18))*SQRT(B17)*B19*B20*B21 -> #DIV/0! | G25: =SQRT(G23/I23)*SQRT(D21/(0.4*F18))*SQRT(B17)*B19*B20*B21 -> #DIV/0! | H25: =SQRT(H23/I23)*SQRT(D21/(0.39*F18))*SQRT(B17)*B19*B20*B21 -> #DIV/0! | I25: =SQRT(D21/(0.38*F18))*SQRT(B17)*B19*B20*B21 -> #DIV/0! | J25: =AVERAGE(C25:I25) -> #DIV/0! | K25: Дата обмера
A26: №3 50% лавировки | C26: =0.5*(C24+C25) -> #DIV/0! | D26: =0.5*(D24+D25) -> #DIV/0! | E26: =0.5*(E24+E25) -> #DIV/0! | F26: =0.5*(F24+F25) -> #DIV/0! | G26: =0.5*(G24+G25) -> #DIV/0! | H26: =0.5*(H24+H25) -> #DIV/0! | I26: =0.5*(I24+I25) -> #DIV/0! | J26: =AVERAGE(C26:I26) -> #DIV/0! | K26: Дата расчета
A27: №4 85% лавировки | C27: =0.85*C24+0.15*C25 -> #DIV/0! | D27: =0.85*D24+0.15*D25 -> #DIV/0! | E27: =0.85*E24+0.15*E25 -> #DIV/0! | F27: =0.85*F24+0.15*F25 -> #DIV/0! | G27: =0.85*G24+0.15*G25 -> #DIV/0! | H27: =0.85*H24+0.15*H25 -> #DIV/0! | I27: =0.85*I24+0.15*I25 -> #DIV/0! | J27: =AVERAGE(C27:I27) -> #DIV/0! | K27: Подпись
A28: №5 75% лавировки | C28: =0.75*C24+0.25*C25 -> #DIV/0! | D28: =0.75*D24+0.25*D25 -> #DIV/0! | E28: =0.75*E24+0.25*E25 -> #DIV/0! | F28: =0.75*F24+0.25*F25 -> #DIV/0! | G28: =0.75*G24+0.25*G25 -> #DIV/0! | H28: =0.75*H24+0.25*H25 -> #DIV/0! | I28: =0.75*I24+0.25*I25 -> #DIV/0! | J28: =AVERAGE(C28:I28) -> #DIV/0!
A29: №6 25% лавировки | C29: =0.25*C24+0.75*C25 -> #DIV/0! | D29: =0.25*D24+0.75*D25 -> #DIV/0! | E29: =0.25*E24+0.75*E25 -> #DIV/0! | F29: =0.25*F24+0.75*F25 -> #DIV/0! | G29: =0.25*G24+0.75*G25 -> #DIV/0! | H29: =0.25*H24+0.75*H25 -> #DIV/0! | I29: =0.25*I24+0.75*I25 -> #DIV/0! | J29: =AVERAGE(C29:I29) -> #DIV/0!
A30: №7 15% лавировки | C30: =0.15*C24+0.85*C25 -> #DIV/0! | D30: =0.15*D24+0.85*D25 -> #DIV/0! | E30: =0.15*E24+0.85*E25 -> #DIV/0! | F30: =0.15*F24+0.85*F25 -> #DIV/0! | G30: =0.15*G24+0.85*G25 -> #DIV/0! | H30: =0.15*H24+0.85*H25 -> #DIV/0! | I30: =0.15*I24+0.85*I25 -> #DIV/0! | J30: =AVERAGE(C30:I30) -> #DIV/0! | Q30: РПО 2017
A31: 1 | B31: Нижний Новгород
A32: РПО 2017 | F32: СВИДЕТЕЛЬСТВО № | I32: =CONCATENATE(B34,".01") -> 211.01 | J32: Стр.1 | K32: СВИДЕТЕЛЬСТВО № | N32: =I32 -> 211.01 | O32: Протокол обмера | R32: Стр.2
A33: СКИФ | D33: Класс | F33: Измерения в метрах и килограммах | K33: Корпус | O33: Постоянные грузы
A34: RUS | B34: 211 | D34: =INT(457468*H48^(-1.475)) -> 36 | F34: Тип и стр. № | H34: Опен-800 № | K34: DSPL | O34: Балласт | Q34: Якоря
D35: ФУТ(А или ОВ) | F35: Конструктор | K35: LOA | M35: BMAX | O35: Двигатель | Q35: Инст. и ЗИП
A36: Подтверждаю,что понимаю | D36: Подтверждаю | F36: Строитель | K36: FGO | M36: TWLлев | O36: Топл.бак | Q36: Газ. баллон
A37: ответственность, налагаемую | D37: Представитель ТК | F37: Дата вооружения | K37: AGO | M37: TWLправ | O37: Аккумул. | Q37: Водяные емк
A38: правилами РПО | D38: Фамилия | F38: Киль | K38: Результаты кренования
A39: Фамилия | F39: Винт | K39: W1 | M39: PD1 | O39: RM1 | P39: =L39*L43*N44*0.0175/N39 -> #DIV/0!
F40: Установка | K40: W2 | M40: PD2 | O40: RM2 | P40: =L40*L43*N44*0.0175/N40 -> #DIV/0!
F41: Срок действия | K41: W3 | M41: PD3 | O41: RM3 | P41: =L41*L43*N44*0.0175/N41 -> #DIV/0!
K42: W4 | M42: PD4 | O42: RM4 | P42: =L42*L43*N44*0.0175/N42 -> #DIV/0!
A43: Владелец | K43: WD | M43: PLM | O43: RM | P43: =AVERAGE(P39:P42) -> #DIV/0!
K44: GSA | M44: PL | N44: =N43/(1+L44/L45) -> #DIV/0! | O44: SV | P44: =3.281*((0.03*B48*B49^3*1025.8-54*P43)/L34-0.0625*B48)+0.25 -> #DIV/0!
K45: RSA | M45: Дата обмера на плаву
A46: Расчетные значения | K46: Паруса
A47: Корпус | C47: Площадь парусов | E47: Площадь смоченной поверхности корпуса | G47: SQ | K47: Грот | M47: Стаксель | O47: Спинакер | Q47: Генакер
A48: LWL | C48: Sгр | G48: GPH | H48: 594.95954 | I48: VMGлав | K48: P | M48: JL | O48: SL | Q48: SLU
A49: BWL | C49: Sст | E49: Ώсмоч | G49: VMG | H49: =3600/H48 -> 6.0508317 | I49: VMGпол | K49: E | M49: LPG | O49: SMG | Q49: SLE
A50: КПВ | C50: Sсп | K50: HB | O50: SF | Q50: ASF
A51: EPF | C51: Sгн | K51: MGU | Q51: AMG
A52: КВЧ | C52: Sпол | K52: MGM
C53: Sлав | E53: Скорость ветра в узлах | J53: VMGсред
A54: Тип дистанции | C54: 6 | D54: 8 | E54: 10 | F54: 12 | G54: 14 | H54: 16 | I54: 20 | J54: 6.7553951 | K54: Предупреждение | M54: =IF(P44>-0.25,"SV непригодно для категории гонок 0,1,2 и3"," ") -> #DIV/0!
A55: №1 100% лавировки | C55: 3.4270277 | D55: 3.9571907 | E55: 4.4242737 | F55: 4.846549 | G55: 5.2348712 | H55: 5.5963127 | I55: 6.2568679 | J55: 4.8204418 | K55: Меритель
A56: №2 без лавировки | C56: 4.056672 | D56: 6.8781803 | E56: 7.7341087 | F56: 8.5214067 | G56: 9.2581551 | H56: 9.9561228 | I56: 14.427793 | J56: 8.6903483 | K56: Дата обмера
A57: №3 50% лавировки | C57: 3.7418498 | D57: 5.4176855 | E57: 6.0791912 | F57: 6.6839779 | G57: 7.2465132 | H57: 7.7762178 | I57: 10.34233 | J57: 6.7553951 | K57: Дата расчета
A58: №4 85% лавировки | C58: 3.5214743 | D58: 4.3953391 | E58: 4.9207489 | F58: 5.3977777 | G58: 5.8383638 | H58: 6.2502842 | I58: 7.4825066 | J58: 5.4009278 | K58: Подпись
A59: №5 75% лавировки | C59: 3.5844388 | D59: 4.6874381 | E59: 5.2517324 | F59: 5.7652634 | G59: 6.2406922 | H59: 6.6862653 | I59: 8.2995991 | J59: 5.7879185
A60: №6 25% лавировки | C60: 3.8992609 | D60: 6.1479329 | E60: 6.9066499 | F60: 7.6026923 | G60: 8.2523341 | H60: 8.8661703 | I60: 12.385061 | J60: 7.7228717
A61: №7 15% лавировки | C61: 3.9622254 | D61: 6.4400318 | E61: 7.2376334 | F61: 7.9701781 | G61: 8.6546625 | H61: 9.3021513 | I61: 13.202154 | J61: 8.1098623 | Q61: РПО 2017
A62: 2 | B62: Нижний Новгород
A63: РПО 2017 | F63: СВИДЕТЕЛЬСТВО № | I63: =CONCATENATE(B65,".01") -> 555.01 | J63: Стр.1 | K63: СВИДЕТЕЛЬСТВО № | N63: =I63 -> 555.01 | O63: Протокол обмера | R63: Стр.2
A64: ФЛАМИНГО | D64: Класс | F64: Измерения в метрах и килограммах | K64: Корпус | O64: Постоянные грузы
A65: RUS | B65: 555 | D65: =INT(457468*H79^(-1.475)) -> 33 | F65: Тип и стр. № | H65: О-800 | K65: DSPL | L65: 1540 | O65: Балласт | Q65: Якоря
D66: ФУТ(А или ОВ) | F66: Конструктор | H66: М.Тихонов | K66: LOA | L66: 7.96 | M66: BMAX | N66: 2.498 | O66: Двигатель | Q66: Инст. и ЗИП
A67: Подтверждаю,что понимаю | D67: Подтверждаю | F67: Строитель | H67: Raketa-Yachts | K67: FGO | M67: TWLлев | O67: Топл.бак | Q67: Газ. баллон
A68: ответственность, налагаемую | D68: Представитель ТК | F68: Дата вооружения | H68: 2012 | K68: AGO | M68: TWLправ | O68: Аккумул. | Q68: Водяные емк
A69: правилами РПО | D69: Фамилия | F69: Киль | H69: Постоянный | K69: Результаты кренования
A70: Фамилия | F70: Винт | J70: =IF(H71="Подвесной мотор",0,IF(H70="Литой",0.005,0)) -> 0 | K70: W1 | M70: PD1 | O70: RM1 | P70: =L70*L74*N75*0.0175/N70 -> #DIV/0!
F71: Установка | H71: подвесной мотор | J71: =IF(H71="Без двигателя",1,IF(H71="Подвесной мотор",0.995,IF(H71="Привод в кронштейне",0.99,IF(H71="Открытый вал",0.98,IF(H71="Закрытый вал",0.97,IF(H71="В вырезе",0.96,"Установка ? ")))))) -> 0.995 | K71: W2 | M71: PD2 | O71: RM2 | P71: =L71*L74*N75*0.0175/N71 -> #DIV/0!
F72: Срок действия | K72: W3 | M72: PD3 | O72: RM3 | P72: =L72*L74*N75*0.0175/N72 -> #DIV/0!
K73: W4 | M73: PD4 | O73: RM4 | P73: =L73*L74*N75*0.0175/N73 -> #DIV/0!
A74: Владелец | K74: WD | M74: PLM | O74: RM | P74: =AVERAGE(P70:P73) -> #DIV/0!
K75: GSA | M75: PL | N75: =N74/(1+L75/L76) -> #DIV/0! | O75: SV | P75: =3.281*((0.03*B79*B80^3*1025.8-54*P74)/L65-0.0625*B79)+0.25 -> #DIV/0!
K76: RSA | M76: Дата обмера на плаву | Q76: 2013
A77: Расчетные значения | K77: Паруса
A78: Корпус | C78: Площадь парусов | E78: Площадь смоченной поверхности корпуса | G78: SQ | K78: Грот | M78: Стаксель | O78: Спинакер | Q78: Генакер
A79: LWL | B79: 6.751 | C79: Sгр | D79: 23.36 | G79: GPH | H79: =3600/(0.5*( D88+F88)) -> 635.92707 | I79: VMGлав | J79: =I86 -> 5.9416671 | K79: P | M79: JL | O79: SL | Q79: SLU
A80: BWL | C80: Sст | D80: 14.6 | E80: Ώсмоч | F80: 13.24 | G80: VMG | H80: =3600/H79 -> 5.6610265 | I80: VMGпол | J80: =I87 -> 12.479563 | K80: E | M80: LPG | O80: SMG | Q80: SLE
A81: КПВ | B81: =IF(H68>2012,1,IF(H68>2008,0.995,0.99)) -> 0.995 | C81: Sсп | D81: =0.5*P81*P79+2*(P80-0.5*P81)*P79/3 -> 0 | K81: HB | O81: SF | P81: =0.8*P80 -> 0 | Q81: ASF
A82: EPF | B82: =J71-J70 -> 0.995 | C82: Sгн | D82: 67.01 | K82: MGU | Q82: AMG
A83: КВЧ | B83: =IF(H69="шверт",1.005,1) -> 1 | C83: Sпол | D83: =D79+MAX(D81,D80,D82) -> 90.37 | K83: MGM
C84: Sлав | D84: =D79+D80 -> 37.96 | E84: Скорость ветра в узлах | J84: VMGсред
A85: Тип дистанции | C85: 6 | D85: 8 | E85: 10 | F85: 12 | G85: 14 | H85: 16 | I85: 20 | J85: =AVERAGE(J86:J92) -> 6.435006 | K85: Предупреждение | M85: =IF(P75>-0.25,"SV непригодно для категории гонок 0,1,2 и3"," ") -> #DIV/0!
A86: №1 100% лавировки | C86: =SQRT(C85/I85)*I86 -> 3.2543851 | D86: =SQRT(D85/I85)*I86 -> 3.7578402 | E86: =SQRT(E85/I85)*I86 -> 4.2013931 | F86: =SQRT(F85/I85)*I86 -> 4.6023955 | G86: =SQRT(G85/I85)*I86 -> 4.9711553 | H86: =SQRT(H85/I85)*I86 -> 5.3143886 | I86: =(D84^(0.25)/((0.001*L65)^(1/6)))*SQRT(B79)*B81*B82 -> 5.9416671 | J86: =AVERAGE(C86:I86) -> 4.5776036 | K86: Меритель
A87: №2 без лавировки | C87: =SQRT(C85/I85)*SQRT(D83/(SQRT(0.69)*F80))*SQRT(B79)*B81*B82*B83 -> 4.0387477 | D87: =SQRT(D85/I85)*SQRT(D83/(0.52*F80))*SQRT(B79)*B81*B82*B83 -> 5.8942247 | E87: =SQRT(E85/I85)*SQRT(D83/(0.44*F80))*SQRT(B79)*B81*B82*B83 -> 7.1640239 | F87: =SQRT(F85/I85)*SQRT(D83/(0.385*F80))*SQRT(B79)*B81*B82*B83 -> 8.3896458 | G87: =SQRT(G85/I85)*SQRT(D83/(0.35*F80))*SQRT(B79)*B81*B82*B83 -> 9.5041517 | H87: =SQRT(H85/I85)*SQRT(D83/(0.323*F80))*SQRT(B79)*B81*B82*B83 -> 10.576503 | I87: =SQRT(D83/(0.29*F80))*SQRT(B79)*B81*B82*B83 -> 12.479563 | J87: =AVERAGE(C87:I87) -> 8.2924085 | K87: Дата обмера | M87: 2013
A88: №3 50% лавировки | C88: =0.5*(C86+C87) -> 3.6465664 | D88: =0.5*(D86+D87) -> 4.8260325 | E88: =0.5*(E86+E87) -> 5.6827085 | F88: =0.5*(F86+F87) -> 6.4960206 | G88: =0.5*(G86+G87) -> 7.2376535 | H88: =0.5*(H86+H87) -> 7.9454458 | I88: =0.5*(I86+I87) -> 9.2106149 | J88: =AVERAGE(C88:I88) -> 6.435006 | K88: Дата расчета | M88: 42859
A89: №4 85% лавировки | C89: =0.85*C86+0.15*C87 -> 3.3720395 | D89: =0.85*D86+0.15*D87 -> 4.0782979 | E89: =0.85*E86+0.15*E87 -> 4.6457877 | F89: =0.85*F86+0.15*F87 -> 5.1704831 | G89: =0.85*G86+0.15*G87 -> 5.6511048 | H89: =0.85*H86+0.15*H87 -> 6.1037057 | I89: =0.85*I86+0.15*I87 -> 6.9223514 | J89: =AVERAGE(C89:I89) -> 5.1348243 | K89: Подпись
A90: №5 75% лавировки | C90: =0.75*C86+0.25*C87 -> 3.4504757 | D90: =0.75*D86+0.25*D87 -> 4.2919363 | E90: =0.75*E86+0.25*E87 -> 4.9420508 | F90: =0.75*F86+0.25*F87 -> 5.5492081 | G90: =0.75*G86+0.25*G87 -> 6.1044044 | H90: =0.75*H86+0.25*H87 -> 6.6299172 | I90: =0.75*I86+0.25*I87 -> 7.576141 | J90: =AVERAGE(C90:I90) -> 5.5063048
A91: №6 25% лавировки | C91: =0.25*C86+0.75*C87 -> 3.842657 | D91: =0.25*D86+0.75*D87 -> 5.3601286 | E91: =0.25*E86+0.75*E87 -> 6.4233662 | F91: =0.25*F86+0.75*F87 -> 7.4428332 | G91: =0.25*G86+0.75*G87 -> 8.3709026 | H91: =0.25*H86+0.75*H87 -> 9.2609744 | I91: =0.25*I86+0.75*I87 -> 10.845089 | J91: =AVERAGE(C91:I91) -> 7.3637073
A92: №7 15% лавировки | C92: =0.15*C86+0.85*C87 -> 3.9210933 | D92: =0.15*D86+0.85*D87 -> 5.573767 | E92: =0.15*E86+0.85*E87 -> 6.7196293 | F92: =0.15*F86+0.85*F87 -> 7.8215582 | G92: =0.15*G86+0.85*G87 -> 8.8242023 | H92: =0.15*H86+0.85*H87 -> 9.7871858 | I92: =0.15*I86+0.85*I87 -> 11.498878 | J92: =AVERAGE(C92:I92) -> 7.7351877 | Q92: РПО 2017
A93: 3 | B93: Нижний Новгород
A94: РПО 2017 | F94: СВИДЕТЕЛЬСТВО № | I94: =CONCATENATE(B96,".01") -> 215.01 | J94: Стр.1 | K94: СВИДЕТЕЛЬСТВО № | N94: =I94 -> 215.01 | O94: Протокол обмера | R94: Стр.2
A95: EK-MARINE | D95: Класс | F95: Измерения в метрах и килограммах | K95: Корпус | O95: Постоянные грузы
A96: RUS | B96: 215 | D96: =INT(457468*H110^(-1.475)) -> 33 | F96: Тип и стр. № | H96: First-27,7 | K96: DSPL | L96: 3233 | O96: Балласт | Q96: Якоря | R96: 12
D97: ФУТ(А или ОВ) | F97: Конструктор | H97: Finat | K97: LOA | L97: 8.3 | M97: BMAX | N97: 3.005 | O97: Двигатель | Q97: Инст. и ЗИП | R97: 8
A98: Подтверждаю,что понимаю | D98: Подтверждаю | F98: Строитель | H98: Benetiau | K98: FGO | L98: 0 | M98: TWLлев | N98: 0.25 | O98: Топл.бак | P98: 15 | Q98: Газ. баллон
A99: ответственность, налагаемую | D99: Представитель ТК | F99: Дата вооружения | H99: 2016 | K99: AGO | L99: 0 | M99: TWLправ | N99: 0.27 | O99: Аккумул. | P99: 10 | Q99: Водяные емк
A100: правилами РПО | D100: Фамилия | F100: Киль | H100: Шверт | K100: Результаты кренования
...

Sheet Расчет
A4: дист. D= | B4: 7 | D4: Гонка №1
A5: № пп | B5: Название | D5: Рег. Номер | E5: Тип яхты | F5: Сист. Обмера | G5: Класс | H5: Vтеор(уз) | I5: Старт | J5: Финиш | K5: ЕТ | L5: Vфакт | M5: НГ | N5: Место | O5: приход
A6: 1 | B6: =Мерилки!A33 -> СКИФ | D6: =Мерилки!B34 -> 211 | E6: GP-26 | F6: Правила класса | G6: 36 футов | H6: =Мерилки!H49 -> 6.0508317 | I6: 0.53125 | J6: 0.5809375 | K6: =(J6-I6)*24 -> 1.1925 | L6: =B4/K6 -> 5.870021 | M6: =L6/H6 -> 0.97011804 | N6: 1 | O6: 1 | P6: 1 | Q6: 0.97011804
A7: 2 | B7: =Мерилки!A64 -> ФЛАМИНГО | D7: =Мерилки!B65 -> 555 | E7: ОПЕН-800 | F7: ORC | G7: 33 фута | H7: =Мерилки!H80 -> 5.6610265 | I7: 0.53125 | J7: 0.58900463 | K7: =(J7-I7)*24 -> 1.3861111 | L7: =B4/K7 -> 5.0501002 | M7: =L7/H7 -> 0.89208206 | N7: 7 | O7: 2 | P7: 2 | Q7: 0.95152842
A8: 3 | B8: =Мерилки!A95 -> EK-MARINE | D8: =Мерилки!B96 -> 215 | E8: First-27,7 | F8: РПО | G8: 33 фута | H8: =Мерилки!H111 -> 5.6364134 | I8: 0.53125 | J8: 0.60710648 | K8: =(J8-I8)*24 -> 1.8205556 | L8: =B4/K8 -> 3.8449802 | M8: =L8/H8 -> 0.68216788 | N8: 10 | O8: 10 | P8: 3 | Q8: 0.9263566
A9: 4 | B9: =Мерилки!A126 -> СИЛУЭТ | D9: =Мерилки!B127 -> 1435 | E9: Картер-30 | F9: РПО | G9: 29 футов | H9: =Мерилки!H142 -> 5.2232147 | I9: 0.53125 | J9: 0.59424769 | K9: =(J9-I9)*24 -> 1.5119444 | L9: =B4/K9 -> 4.6297997 | M9: =L9/H9 -> 0.88638894 | N9: 8 | O9: 4 | P9: 4 | Q9: 0.92329436
A10: 5 | B10: =Мерилки!A157 -> КРЕДО | D10: =Мерилки!B158 -> 581 | E10: Картер-30 | F10: RS-2000 | G10: 29 футов | H10: =Мерилки!H173 -> 5.2006729 | I10: 0.53125 | J10: 0.59381944 | K10: =(J10-I10)*24 -> 1.5016667 | L10: =B4/K10 -> 4.6614872 | M10: =L10/H10 -> 0.89632387 | N10: 6 | O10: 3 | P10: 5 | Q10: 0.92201351
A11: 6 | B11: АФРИКА | D11: 169 | E11: ОПЕН-800 | F11: Прототип | G11: 33 фута | H11: 5.6610265 | I11: 0.53125 | J11: 0.59564815 | K11: =(J11-I11)*24 -> 1.5455556 | L11: =B4/K11 -> 4.5291157 | M11: =L11/H11 -> 0.80005202 | N11: 9 | O11: 5 | P11: 6 | Q11: 0.89632387
A12: 7 | B12: =Мерилки!A188 -> МИР | D12: =Мерилки!B189 -> 1138 | E12: Конрад-25РТ | F12: РПО | G12: 25 футов | H12: 4.7442327 | I12: 0.53125 | J12: 0.59783565 | K12: =(J12-I12)*24 -> 1.5980556 | L12: =B4/K12 -> 4.3803233 | M12: =L12/H12 -> 0.92329436 | N12: 4 | O12: 8 | P12: 7 | Q12: 0.89208206
A13: 8 | B13: =Мерилки!A219 -> АККОРД | D13: =Мерилки!B220 -> 1069 | E13: Конрад 25Р | F13: РПО | G13: 25 футов | H13: 4.7566615 | I13: 0.53125 | J13: 0.59744213 | K13: =(J13-I13)*24 -> 1.5886111 | L13: =B4/K13 -> 4.4063647 | M13: =L13/H13 -> 0.9263566 | N13: 3 | O13: 7 | P13: 8 | Q13: 0.88638894
A14: 9 | B14: =Мерилки!A250 -> АСТРА | D14: =Мерилки!B251 -> 1247 | E14: Конрад-25РТ | F14: РПО | G14: 25 футов | H14: 4.7048689 | I14: 0.53125 | J14: 0.59640046 | K14: =(J14-I14)*24 -> 1.5636111 | L14: =B4/K14 -> 4.4768165 | M14: =L14/H14 -> 0.95152842 | N14: 2 | O14: 6 | P14: 9 | Q14: 0.80005202
A15: 10 | B15: СВЕТЛОЯР | D15: 1059 | E15: 1/4 ТЭВСС | F15: РПО | G15: 24 фута | H15: 4.53936 | I15: 0.53125 | J15: 0.6009375 | K15: =(J15-I15)*24 -> 1.6725 | L15: =B4/K15 -> 4.1853513 | M15: =L15/H15 -> 0.92201351 | N15: 5 | O15: 9 | P15: 10 | Q15: 0.68216788
A16: 11 | B16: ОКА | D16: 2107 | E16: OPTY-71 | F16: РПО | G16: 24 фута | H16: 4.5732393 | I16: DNS | K16: =(J16-I16)*24 -> #VALUE! | L16: =B4/K16 -> #VALUE! | M16: =L16/H16 -> #VALUE! | P16: 11 | Q16: #VALUE!
A18: дист. D= | B18: 7 | D18: Гонка №2
A19: № пп | B19: Название | D19: Рег. Номер | E19: Тип яхты | F19: Сист. Обмера | G19: Класс | H19: Vтеор(уз) | I19: Старт | J19: Финиш | K19: ЕТ | L19: Vфакт | M19: НГ | N19: Место | O19: приход
A20: 1 | B20: СКИФ | D20: 211 | E20: GP-26 | F20: Правила класса | G20: 36 футов | H20: 6.0508317 | I20: 0.52430556 | J20: 0.58008102 | K20: =(J20-I20)*24 -> 1.3386111 | L20: =B18/K20 -> 5.2293007 | M20: =L20/H20 -> 0.86422842 | N20: 8 | O20: 1 | P20: 1 | Q20: 0.9767392
A21: 2 | B21: ФЛАМИНГО | D21: 555 | E21: ОПЕН-800 | F21: ORC | G21: 33 фута | H21: 5.6610265 | I21: 0.52430556 | J21: 0.59078704 | K21: =(J21-I21)*24 -> 1.5955556 | L21: =B18/K21 -> 4.3871866 | M21: =L21/H21 -> 0.77498076 | N21: 10 | O21: 7 | P21: 2 | Q21: 0.9528739
A22: 3 | B22: EK-MARINE | D22: 215 | E22: First-27,7 | F22: РПО | G22: 33 фута | H22: 5.6364134 | I22: 0.52430556 | J22: 0.61112269 | K22: =(J22-I22)*24 -> 2.0836111 | L22: =B18/K22 -> 3.3595521 | M22: =L22/H22 -> 0.5960443 | N22: 11 | O22: 11 | P22: 3 | Q22: 0.93868795
A23: 4 | B23: СИЛУЭТ | D23: 1435 | E23: Картер-30 | F23: РПО | G23: 29 футов | H23: 5.2232147 | I23: 0.52430556 | J23: 0.58789352 | K23: =(J23-I23)*24 -> 1.5261111 | L23: =B18/K23 -> 4.586822 | M23: =L23/H23 -> 0.87816072 | N23: 7 | O23: 5 | P23: 4 | Q23: 0.91329307
A24: 5 | B24: КРЕДО | D24: 581 | E24: Картер-30 | F24: RS-2000 | G24: 29 футов | H24: 5.2006729 | I24: 0.52430556 | J24: 0.58733796 | K24: =(J24-I24)*24 -> 1.5127778 | L24: =B18/K24 -> 4.6272494 | M24: =L24/H24 -> 0.88974051 | N24: 6 | O24: 4 | P24: 5 | Q24: 0.90214757
A25: 6 | B25: АФРИКА | D25: 169 | E25: ОПЕН-800 | F25: Прототип | G25: 33 фута | H25: 5.6610265 | I25: 0.52430556 | J25: 0.58717593 | K25: =(J25-I25)*24 -> 1.5088889 | L25: =B18/K25 -> 4.6391753 | M25: =L25/H25 -> 0.81949364 | N25: 9 | O25: 3 | P25: 6 | Q25: 0.88974051
A26: 7 | B26: МИР | D26: 1138 | E26: Конрад-25РТ | F26: IOR | G26: 25 футов | H26: 4.7442327 | I26: 0.52430556 | J26: 0.59162037 | K26: =(J26-I26)*24 -> 1.6155556 | L26: =B18/K26 -> 4.3328748 | M26: =L26/H26 -> 0.91329307 | N26: 4 | O26: 8 | P26: 7 | Q26: 0.87816072
A27: 8 | B27: АККОРД | D27: 1069 | E27: Конрад 25Р | F27: РПО | G27: 25 футов | H27: 4.7566615 | I27: 0.52430556 | J27: 0.58708333 | K27: =(J27-I27)*24 -> 1.5066667 | L27: =B18/K27 -> 4.6460177 | M27: =L27/H27 -> 0.9767392 | N27: 1 | O27: 2 | P27: 8 | Q27: 0.86422842
A28: 9 | B28: АСТРА | D28: 1247 | E28: Конрад-25РТ | F28: РПО | G28: 25 футов | H28: 4.7048689 | I28: 0.52430556 | J28: 0.59034722 | K28: =(J28-I28)*24 -> 1.585 | L28: =B18/K28 -> 4.4164038 | M28: =L28/H28 -> 0.93868795 | N28: 3 | O28: 6 | P28: 9 | Q28: 0.81949364
A29: 10 | B29: СВЕТЛОЯР | D29: 1059 | E29: 1/4 ТЭВСС | F29: РПО | G29: 24 фута | H29: 4.53936 | I29: 0.52430556 | J29: 0.59173611 | K29: =(J29-I29)*24 -> 1.6183333 | L29: =B18/K29 -> 4.3254377 | M29: =L29/H29 -> 0.9528739 | N29: 2 | O29: 9 | P29: 10 | Q29: 0.77498076
A30: 11 | B30: ОКА | D30: 2107 | E30: OPTY-71 | F30: РПО | G30: 24 фута | H30: 4.5732393 | I30: 0.52430556 | J30: 0.595 | K30: =(J30-I30)*24 -> 1.6966667 | L30: =B18/K30 -> 4.1257367 | M30: =L30/H30 -> 0.90214757 | N30: 5 | O30: 10 | P30: 11 | Q30: 0.5960443
A32: дист. D= | B32: 7 | D32: Гонка №3
A33: № пп | B33: Название | D33: Рег. Номер | E33: Тип яхты | F33: Сист. Обмера | G33: Класс | H33: Vтеор(уз) | I33: Старт | J33: Финиш | K33: ЕТ | L33: Vфакт | M33: НГ | N33: Место | O33: приход
A34: 1 | B34: СКИФ | D34: 211 | E34: GP-26 | F34: Правила класса | G34: 36 футов | H34: 6.0508317 | I34: 0.625 | J34: 0.67934028 | K34: =(J34-I34)*24 -> 1.3041667 | L34: =B32/K34 -> 5.3674121 | M34: =L34/H34 -> 0.88705362 | N34: 10 | O34: 1 | P34: 1 | Q34: 1.0234616
A35: 2 | B35: ФЛАМИНГО | D35: 555 | E35: ОПЕН-800 | F35: ORC | G35: 33 фута | H35: 5.6610265 | I35: 0.625 | J35: 0.68100694 | K35: =(J35-I35)*24 -> 1.3441667 | L35: =B32/K35 -> 5.2076875 | M35: =L35/H35 -> 0.91991929 | N35: 8 | O35: 3 | P35: 2 | Q35: 1.0229304
A36: 3 | B36: EK-MARINE | D36: 215 | E36: First-27,7 | F36: РПО | G36: 33 фута | H36: 5.6364134 | I36: 0.625 | J36: 0.71394676 | K36: =(J36-I36)*24 -> 2.1347222 | L36: =B32/K36 -> 3.2791152 | M36: =L36/H36 -> 0.58177336 | N36: 11 | O36: 11 | P36: 3 | Q36: 1.0186675
A37: 4 | B37: СИЛУЭТ | D37: 1435 | E37: Картер-30 | F37: РПО | G37: 29 футов | H37: 5.2232147 | I37: 0.625 | J37: 0.68508102 | K37: =(J37-I37)*24 -> 1.4419444 | L37: =B32/K37 -> 4.854556 | M37: =L37/H37 -> 0.92941918 | N37: 7 | O37: 5 | P37: 4 | Q37: 1.0112299
A38: 5 | B38: КРЕДО | D38: 581 | E38: Картер-30 | F38: RS-2000 | G38: 29 футов | H38: 5.2006729 | I38: 0.625 | J38: 0.68077546 | K38: =(J38-I38)*24 -> 1.3386111 | L38: =B32/K38 -> 5.2293007 | M38: =L38/H38 -> 1.0055046 | N38: 6 | O38: 2 | P38: 5 | Q38: 1.0092556
A39: 6 | B39: АФРИКА | D39: 169 | E39: ОПЕН-800 | F39: Прототип | G39: 33 фута | H39: 5.6610265 | I39: 0.625 | J39: 0.68280093 | K39: =(J39-I39)*24 -> 1.3872222 | L39: =B32/K39 -> 5.0460553 | M39: =L39/H39 -> 0.89136753 | N39: 9 | O39: 4 | P39: 6 | Q39: 1.0055046
A40: 7 | B40: МИР | D40: 1138 | E40: Конрад-25РТ | F40: IOR | G40: 25 футов | H40: 4.7442327 | I40: 0.625 | J40: 0.68591435 | K40: =(J40-I40)*24 -> 1.4619444 | L40: =B32/K40 -> 4.7881436 | M40: =L40/H40 -> 1.0092556 | N40: 5 | O40: 8 | P40: 7 | Q40: 0.92941918
A41: 8 | B41: АККОРД | D41: 1069 | E41: Конрад 25Р | F41: РПО | G41: 25 футов | H41: 4.7566615 | I41: 0.625 | J41: 0.68563657 | K41: =(J41-I41)*24 -> 1.4552778 | L41: =B32/K41 -> 4.8100783 | M41: =L41/H41 -> 1.0112299 | N41: 4 | O41: 6 | P41: 8 | Q41: 0.91991929
A42: 9 | B42: АСТРА | D42: 1247 | E42: Конрад-25РТ | F42: РПО | G42: 25 футов | H42: 4.7048689 | I42: 0.625 | J42: 0.68585648 | K42: =(J42-I42)*24 -> 1.4605556 | L42: =B32/K42 -> 4.7926968 | M42: =L42/H42 -> 1.0186675 | N42: 3 | O42: 7 | P42: 9 | Q42: 0.89136753
A43: 10 | B43: СВЕТЛОЯР | D43: 1059 | E43: 1/4 ТЭВСС | F43: РПО | G43: 24 фута | H43: 4.53936 | I43: 0.625 | J43: 0.6878125 | K43: =(J43-I43)*24 -> 1.5075 | L43: =B32/K43 -> 4.6434494 | M43: =L43/H43 -> 1.0229304 | N43: 2 | O43: 10 | P43: 10 | Q43: 0.88705362
A44: 11 | B44: ОКА | D44: 2107 | E44: OPTY-71 | F44: РПО | G44: 24 фута | H44: 4.5732393 | I44: 0.625 | J44: 0.68731481 | K44: =(J44-I44)*24 -> 1.4955556 | L44: =B32/K44 -> 4.6805349 | M44: =L44/H44 -> 1.0234616 | N44: 1 | O44: 9 | P44: 11 | Q44: 0.58177336
A46: дист. D= | B46: 7 | D46: Гонка №4
A47: № пп | B47: Название | D47: Рег. Номер | E47: Тип яхты | F47: Сист. Обмера | G47: Класс | H47: Vтеор(уз) | I47: Старт | J47: Финиш | K47: ЕТ | L47: Vфакт | M47: НГ | N47: Место | O47: приход
A48: 1 | B48: СКИФ | D48: 211 | E48: GP-26 | F48: Правила класса | G48: 36 футов | H48: 6.0508317 | I48: 0.51736111 | J48: 0.57709491 | K48: =(J48-I48)*24 -> 1.4336111 | L48: =B46/K48 -> 4.8827747 | M48: =L48/H48 -> 0.80695926 | N48: 2 | O48: 1 | P48: 1 | Q48: 0.87553023
A49: 2 | B49: ФЛАМИНГО | D49: 555 | E49: ОПЕН-800 | F49: ORC | G49: 33 фута | H49: 5.6610265 | I49: 0.51736111 | J49: 0.5883912 | K49: =(J49-I49)*24 -> 1.7047222 | L49: =B46/K49 -> 4.1062408 | M49: =L49/H49 -> 0.72535269 | N49: 6 | O49: 3 | P49: 2 | Q49: 0.80695926
A50: 3 | B50: EK-MARINE | D50: 215 | E50: First-27,7 | F50: РПО | G50: 33 фута | H50: 5.6364134 | I50: 0.51736111 | J50: 0.62782407 | K50: =(J50-I50)*24 -> 2.6511111 | L50: =B46/K50 -> 2.6404023 | M50: =L50/H50 -> 0.46845435 | N50: 11 | O50: 11 | P50: 3 | Q50: 0.79244762
A51: 4 | B51: СИЛУЭТ | D51: 1435 | E51: Картер-30 | F51: РПО | G51: 29 футов | H51: 5.2232147 | I51: 0.51736111 | J51: 0.59523148 | K51: =(J51-I51)*24 -> 1.8688889 | L51: =B46/K51 -> 3.745541 | M51: =L51/H51 -> 0.71709497 | N51: 8 | O51: 5 | P51: 4 | Q51: 0.75990164
A52: 5 | B52: КРЕДО | D52: 581 | E52: Картер-30 | F52: RS-2000 | G52: 29 футов | H52: 5.2006729 | I52: 0.51736111 | J52: 0.59537037 | K52: =(J52-I52)*24 -> 1.8722222 | L52: =B46/K52 -> 3.7388724 | M52: =L52/H52 -> 0.71892089 | N52: 7 | O52: 6 | P52: 5 | Q52: 0.74837937
A53: 6 | B53: АФРИКА | D53: 169 | E53: ОПЕН-800 | F53: Прототип | G53: 33 фута | H53: 5.6610265 | I53: 0.51736111 | J53: 0.5921412 | K53: =(J53-I53)*24 -> 1.7947222 | L53: =B46/K53 -> 3.900325 | M53: =L53/H53 -> 0.6889784 | N53: 10 | O53: 4 | P53: 6 | Q53: 0.72535269
A54: 7 | B54: МИР | D54: 1138 | E54: Конрад-25РТ | F54: РПО | G54: 25 футов | H54: 4.7442327 | I54: 0.51736111 | J54: 0.59826389 | K54: =(J54-I54)*24 -> 1.9416667 | L54: =B46/K54 -> 3.6051502 | M54: =L54/H54 -> 0.75990164 | N54: 4 | O54: 8 | P54: 7 | Q54: 0.71892089
A55: 8 | B55: АККОРД | D55: 1069 | E55: Конрад 25Р | F55: РПО | G55: 25 футов | H55: 4.7566615 | I55: 0.51736111 | J55: 0.58739583 | K55: =(J55-I55)*24 -> 1.6808333 | L55: =B46/K55 -> 4.1646009 | M55: =L55/H55 -> 0.87553023 | N55: 1 | O55: 2 | P55: 8 | Q55: 0.71709497
A56: 9 | B56: АСТРА | D56: 1247 | E56: Конрад-25РТ | F56: РПО | G56: 25 футов | H56: 4.7048689 | I56: 0.51736111 | J56: 0.59559028 | K56: =(J56-I56)*24 -> 1.8775 | L56: =B46/K56 -> 3.7283622 | M56: =L56/H56 -> 0.79244762 | N56: 3 | O56: 7 | P56: 9 | Q56: 0.70076286
A57: 10 | B57: СВЕТЛОЯР | D57: 1059 | E57: 1/4 ТЭВСС | F57: РПО | G57: 24 фута | H57: 4.53936 | I57: 0.51736111 | J57: 0.60905093 | K57: =(J57-I57)*24 -> 2.2005556 | L57: =B46/K57 -> 3.1810149 | M57: =L57/H57 -> 0.70076286 | N57: 9 | O57: 10 | P57: 10 | Q57: 0.6889784
A58: 11 | B58: ОКА | D58: 2107 | E58: OPTY-71 | F58: РПО | G58: 24 фута | H58: 4.5732393 | I58: 0.51736111 | J58: 0.60258102 | K58: =(J58-I58)*24 -> 2.0452778 | L58: =B46/K58 -> 3.422518 | M58: =L58/H58 -> 0.74837937 | N58: 5 | O58: 9 | P58: 11 | Q58: 0.46845435
A60: дист. D= | B60: 3 | D60: Гонка №5
A61: № пп | B61: Название | D61: Рег. Номер | E61: Тип яхты | F61: Сист. Обмера | G61: Класс | H61: Vтеор(уз) | I61: Старт | J61: Финиш | K61: ЕТ | L61: Vфакт | M61: НГ | N61: Место | O61: приход
A62: 1 | B62: СКИФ | D62: 211 | E62: GP-26 | F62: Правила класса | G62: 36 футов | H62: 6.0508317 | I62: 0.61805556 | J62: 0.65506944 | K62: =(J62-I62)*24 -> 0.88833333 | L62: =B60/K62 -> 3.3771107 | M62: =L62/H62 -> 0.55812339 | N62: 8 | O62: 1 | P62: 1 | Q62: 0.62701293
A63: 2 | B63: ФЛАМИНГО | D63: 555 | E63: ОПЕН-800 | F63: ORC | G63: 33 фута | H63: 5.6610265 | I63: 0.61805556 | J63: 0.65747685 | K63: =(J63-I63)*24 -> 0.94611111 | L63: =B60/K63 -> 3.1708749 | M63: =L63/H63 -> 0.56012366 | N63: 7 | O63: 2 | P63: 2 | Q63: 0.60705285
A64: 3 | B64: EK-MARINE | D64: 215 | E64: First-27,7 | F64: РПО | G64: 33 фута | H64: 5.6364134 | I64: 0.61805556 | J64: 0.68501157 | K64: =(J64-I64)*24 -> 1.6069444 | L64: =B60/K64 -> 1.8668971 | M64: =L64/H64 -> 0.33122076 | N64: 11 | O64: 11 | P64: 3 | Q64: 0.6019288
A65: 4 | B65: СИЛУЭТ | D65: 1435 | E65: Картер-30 | F65: РПО | G65: 29 футов | H65: 5.2232147 | I65: 0.61805556 | J65: 0.65922454 | K65: =(J65-I65)*24 -> 0.98805556 | L65: =B60/K65 -> 3.0362665 | M65: =L65/H65 -> 0.58130226 | N65: 5 | O65: 4 | P65: 4 | Q65: 0.58943407
A66: 5 | B66: КРЕДО | D66: 581 | E66: Картер-30 | F66: RS-2000 | G66: 29 футов | H66: 5.2006729 | I66: 0.61805556 | J66: 0.65798611 | K66: =(J66-I66)*24 -> 0.95833333 | L66: =B60/K66 -> 3.1304348 | M66: =L66/H66 -> 0.6019288 | N66: 3 | O66: 3 | P66: 5 | Q66: 0.58130226
A67: 6 | B67: АФРИКА | D67: 169 | E67: ОПЕН-800 | F67: Прототип | G67: 33 фута | H67: 5.6610265 | I67: 0.61805556 | J67: 0.66240741 | K67: =(J67-I67)*24 -> 1.0644444 | L67: =B60/K67 -> 2.8183716 | M67: =L67/H67 -> 0.49785522 | N67: 10 | O67: 7 | P67: 6 | Q67: 0.57859679
A68: 7 | B68: МИР | D68: 1138 | E68: Конрад-25РТ | F68: РПО | G68: 25 футов | H68: 4.7442327 | I68: 0.61805556 | J68: 0.66145833 | K68: =(J68-I68)*24 -> 1.0416667 | L68: =B60/K68 -> 2.88 | M68: =L68/H68 -> 0.60705285 | N68: 2 | O68: 6 | P68: 7 | Q68: 0.56012366
A69: 8 | B69: АККОРД | D69: 1069 | E69: Конрад 25Р | F69: РПО | G69: 25 футов | H69: 4.7566615 | I69: 0.61805556 | J69: 0.66263889 | K69: =(J69-I69)*24 -> 1.07 | L69: =B60/K69 -> 2.8037383 | M69: =L69/H69 -> 0.58943407 | N69: 4 | O69: 8 | P69: 8 | Q69: 0.55812339
A70: 9 | B70: АСТРА | D70: 1247 | E70: Конрад-25РТ | F70: РПО | G70: 25 футов | H70: 4.7048689 | I70: 0.61805556 | J70: 0.66042824 | K70: =(J70-I70)*24 -> 1.0169444 | L70: =B60/K70 -> 2.9500137 | M70: =L70/H70 -> 0.62701293 | N70: 1 | O70: 5 | P70: 9 | Q70: 0.55073801
A71: 10 | B71: СВЕТЛОЯР | D71: 1059 | E71: 1/4 ТЭВСС | F71: РПО | G71: 24 фута | H71: 4.53936 | I71: 0.61805556 | J71: 0.66564815 | K71: =(J71-I71)*24 -> 1.1422222 | L71: =B60/K71 -> 2.6264591 | M71: =L71/H71 -> 0.57859679 | N71: 6 | O71: 9 | P71: 10 | Q71: 0.49785522
A72: 11 | B72: ОКА | D72: 2107 | E72: OPTY-71 | F72: РПО | G72: 24 фута | H72: 4.5732393 | I72: 0.61805556 | J72: 0.66768519 | K72: =(J72-I72)*24 -> 1.1911111 | L72: =B60/K72 -> 2.5186567 | M72: =L72/H72 -> 0.55073801 | N72: 9 | O72: 10 | P72: 11 | Q72: 0.33122076
I74: Гонка №1 | K74: Гонка №2 | M74: Гонка №3 | O74: Гонка №4 | Q74: Гонка №5 | S74: очки | T74: место
A75: № пп | B75: Название | D75: Рег. Номер | E75: Тип яхты | F75: Сист. Обмера | G75: Класс | H75: Vтеор(уз) | I75: место | J75: очки | K75: место | L75: очки | M75: место | N75: очки | O75: место | P75: очки | Q75: место | R75: очки | S75: общиие
A76: 1 | B76: СКИФ | D76: 211 | E76: GP-26 | F76: Правила класса | G76: 36 футов | H76: 6.0508317 | I76: 1 | J76: 1 | K76: 8 | L76: 8 | M76: 10 | N76: 10 | O76: 2 | P76: 2 | Q76: 8 | R76: 8 | S76: =R76+P76+N76+L76+J76 -> 29 | T76: 6
A77: 2 | B77: ФЛАМИНГО | D77: 555 | E77: ОПЕН-800 | F77: ORC | G77: 33 фута | H77: 5.6610265 | I77: 7 | J77: 7 | K77: 10 | L77: 10 | M77: 8 | N77: 8 | O77: 6 | P77: 6 | Q77: 7 | R77: 7 | S77: =R77+P77+N77+L77+J77 -> 38 | T77: 9
A78: 3 | B78: EK-MARINE | D78: 215 | E78: First-27,7 | F78: РПО | G78: 33 фута | H78: 5.6364134 | I78: 10 | J78: 10 | K78: 11 | L78: 11 | M78: 11 | N78: 11 | O78: 11 | P78: 11 | Q78: 11 | R78: 11 | S78: =R78+P78+N78+L78+J78 -> 54 | T78: 11
A79: 4 | B79: СИЛУЭТ | D79: 1435 | E79: Картер-30 | F79: РПО | G79: 29 футов | H79: 5.2232147 | I79: 8 | J79: 8 | K79: 7 | L79: 7 | M79: 7 | N79: 7 | O79: 8 | P79: 8 | Q79: 5 | R79: 5 | S79: =R79+P79+N79+L79+J79 -> 35 | T79: 8
A80: 5 | B80: КРЕДО | D80: 581 | E80: Картер-30 | F80: RS-2000 | G80: 29 футов | H80: 5.2006729 | I80: 6 | J80: 6 | K80: 6 | L80: 6 | M80: 6 | N80: 6 | O80: 7 | P80: 7 | Q80: 3 | R80: 3 | S80: =R80+P80+N80+L80+J80 -> 28 | T80: 5
A81: 6 | B81: АФРИКА | D81: 169 | E81: ОПЕН-800 | F81: Прототип | G81: 33 фута | H81: 5.6610265 | I81: 9 | J81: 9 | K81: 9 | L81: 9 | M81: 9 | N81: 9 | O81: 10 | P81: 10 | Q81: 10 | R81: 10 | S81: =R81+P81+N81+L81+J81 -> 47 | T81: 10
A82: 7 | B82: МИР | D82: 1138 | E82: Конрад-25РТ | F82: РПО | G82: 25 футов | H82: 4.7442327 | I82: 4 | J82: 4 | K82: 4 | L82: 4 | M82: 5 | N82: 5 | O82: 4 | P82: 4 | Q82: 2 | R82: 2 | S82: =R82+P82+N82+L82+J82 -> 19 | T82: 3
A83: 8 | B83: АККОРД | D83: 1069 | E83: Конрад 25Р | F83: РПО | G83: 25 футов | H83: 4.7566615 | I83: 3 | J83: 3 | K83: 1 | L83: 1 | M83: 4 | N83: 4 | O83: 1 | P83: 1 | Q83: 4 | R83: 4 | S83: =R83+P83+N83+L83+J83 -> 13 | T83: 2
A84: 9 | B84: АСТРА | D84: 1247 | E84: Конрад-25РТ | F84: РПО | G84: 25 футов | H84: 4.7048689 | I84: 2 | J84: 2 | K84: 3 | L84: 3 | M84: 3 | N84: 3 | O84: 3 | P84: 3 | Q84: 1 | R84: 1 | S84: =R84+P84+N84+L84+J84 -> 12 | T84: 1
A85: 10 | B85: СВЕТЛОЯР | D85: 1059 | E85: 1/4 ТЭВСС | F85: РПО | G85: 24 фута | H85: 4.53936 | I85: 5 | J85: 5 | K85: 2 | L85: 2 | M85: 2 | N85: 2 | O85: 9 | P85: 9 | Q85: 6 | R85: 6 | S85: =R85+P85+N85+L85+J85 -> 24 | T85: 4
A86: 11 | B86: ОКА | D86: 2107 | E86: OPTY-71 | F86: РПО | G86: 24 фута | H86: 4.5732393 | I86: DNS | J86: 12 | K86: 5 | L86: 5 | M86: 1 | N86: 1 | O86: 5 | P86: 5 | Q86: 9 | R86: 9 | S86: =R86+P86+N86+L86+J86 -> 32 | T86: 7
I88: Гонка №1 | K88: Гонка №2 | M88: Гонка №3 | O88: Гонка №4 | Q88: Гонка №5 | S88: очки | T88: место
A89: № пп | B89: Название | D89: Рег. Номер | E89: Тип яхты | F89: Сист. Обмера | G89: Класс | H89: Vтеор(уз) | I89: место | J89: очки | K89: место | L89: очки | M89: место | N89: очки | O89: место | P89: очки | Q89: место | R89: очки | S89: общиие | T89: общее
A90: 1 | B90: АСТРА | D90: 1247 | E90: Конрад-25РТ | F90: РПО | G90: 25 футов | H90: 4.7048689 | I90: 2 | J90: 2 | K90: 3 | L90: 3 | M90: 3 | N90: 3 | O90: 3 | P90: 3 | Q90: 1 | R90: 1 | S90: =R90+P90+N90+L90+J90 -> 12 | T90: 1
A91: 2 | B91: АККОРД | D91: 1069 | E91: Конрад 25Р | F91: РПО | G91: 25 футов | H91: 4.7566615 | I91: 3 | J91: 3 | K91: 1 | L91: 1 | M91: 4 | N91: 4 | O91: 1 | P91: 1 | Q91: 4 | R91: 4 | S91: =R91+P91+N91+L91+J91 -> 13 | T91: 2
A92: 3 | B92: МИР | D92: 1138 | E92: Конрад-25РТ | F92: РПО | G92: 25 футов | H92: 4.7442327 | I92: 4 | J92: 4 | K92: 4 | L92: 4 | M92: 5 | N92: 5 | O92: 4 | P92: 4 | Q92: 2 | R92: 2 | S92: =R92+P92+N92+L92+J92 -> 19 | T92: 3
A93: 4 | B93: СВЕТЛОЯР | D93: 1059 | E93: 1/4 ТЭВСС | F93: РПО | G93: 24 фута | H93: 4.53936 | I93: 5 | J93: 5 | K93: 2 | L93: 2 | M93: 2 | N93: 2 | O93: 9 | P93: 9 | Q93: 6 | R93: 6 | S93: =R93+P93+N93+L93+J93 -> 24 | T93: 4
A94: 5 | B94: КРЕДО | D94: 581 | E94: Картер-30 | F94: RS-2000 | G94: 29 футов | H94: 5.2006729 | I94: 6 | J94: 6 | K94: 6 | L94: 6 | M94: 6 | N94: 6 | O94: 7 | P94: 7 | Q94: 3 | R94: 3 | S94: =R94+P94+N94+L94+J94 -> 28 | T94: 5
A95: 6 | B95: СКИФ | D95: 211 | E95: GP-26 | F95: Правила класса | G95: 36 футов | H95: 6.0508317 | I95: 1 | J95: 1 | K95: 8 | L95: 8 | M95: 10 | N95: 10 | O95: 2 | P95: 2 | Q95: 8 | R95: 8 | S95: =R95+P95+N95+L95+J95 -> 29 | T95: 6
A96: 7 | B96: ОКА | D96: 2107 | E96: OPTY-71 | F96: РПО | G96: 24 фута | H96: 4.5732393 | I96: DNS | J96: 12 | K96: 5 | L96: 5 | M96: 1 | N96: 1 | O96: 5 | P96: 5 | Q96: 9 | R96: 9 | S96: =R96+P96+N96+L96+J96 -> 32 | T96: 7
A97: 8 | B97: СИЛУЭТ | D97: 1435 | E97: Картер-30 | F97: РПО | G97: 29 футов | H97: 5.2232147 | I97: 8 | J97: 8 | K97: 7 | L97: 7 | M97: 7 | N97: 7 | O97: 8 | P97: 8 | Q97: 5 | R97: 5 | S97: =R97+P97+N97+L97+J97 -> 35 | T97: 8
A98: 9 | B98: ФЛАМИНГО | D98: 555 | E98: ОПЕН-800 | F98: ORC | G98: 33 фута | H98: 5.6610265 | I98: 7 | J98: 7 | K98: 10 | L98: 10 | M98: 8 | N98: 8 | O98: 6 | P98: 6 | Q98: 7 | R98: 7 | S98: =R98+P98+N98+L98+J98 -> 38 | T98: 9
A99: 10 | B99: АФРИКА | D99: 169 | E99: ОПЕН-800 | F99: Прототип | G99: 33 фута | H99: 5.6610265 | I99: 9 | J99: 9 | K99: 9 | L99: 9 | M99: 9 | N99: 9 | O99: 10 | P99: 10 | Q99: 10 | R99: 10 | S99: =R99+P99+N99+L99+J99 -> 47 | T99: 10
A100: 11 | B100: EK-MARINE | D100: 215 | E100: First-27,7 | F100: РПО | G100: 33 фута | H100: 5.6364134 | I100: 10 | J100: 10 | K100: 11 | L100: 11 | M100: 11 | N100: 11 | O100: 11 | P100: 11 | Q100: 11 | R100: 11 | S100: =R100+P100+N100+L100+J100 -> 54 | T100: 11
B102: 24 фута | D102: 25 футов | E102: 29 футов | F102: 33 фута | G102: 36 футов
B103: СВЕТЛОЯР | D103: АСТРА | E103: КРЕДО | F103: ФЛАМИНГО | G103: СКИФ
B104: ОКА | D104: АККОРД | E104: СИЛУЭТ | F104: АФРИКА
D105: МИР | F105: EK-MARINE

Sheet Классификация
B1: 1052 | C1: 1010 | D1: 972 | E1: 936.3 | F1: 904.5 | G1: 875 | H1: 847.5 | I1: 822.5 | J1: 798.7 | K1: 769 | L1: 749 | M1: 737 | N1: 720 | O1: 703 | P1: 687 | Q1: 671.5 | R1: 657.5 | S1: 644 | T1: 631 | U1: 618.6 | V1: 606.8 | W1: 595.6 | X1: 585 | Y1: 574.5 | Z1: 565 | AA1: 555.5 | AB1: 546.5 | AC1: 537.9 | AD1: 529.4 | AE1: 521.4 | AF1: 513.6 | AG1: 506.1 | AH1: 499 | AI1: 492 | AJ1: 485.3 | AK1: 478.6 | AL1: 472.4 | AM1: 466.3 | AN1: 460.4 | AO1: 454.8 | AP1: 449.1 | AQ1: 443.8 | AR1: 438.6 | AS1: 433.5 | AT1: 428.5 | AU1: 424.2 | AV1: 419.5 | AW1: 415 | AX1: 410.6 | AY1: 406.5 | AZ1: 402.4 | BA1: 398.3 | BB1: 394.3 | BC1: 390.4 | BD1: 386.7
B2: 16 | C2: 17 | D2: 18 | E2: 19 | F2: 20 | G2: 21 | H2: 22 | I2: 23 | J2: 24 | K2: 25 | L2: 26 | M2: 27 | N2: 28 | O2: 29 | P2: 30 | Q2: 31 | R2: 32 | S2: 33 | T2: 34 | U2: 35 | V2: 36 | W2: 37 | X2: 38 | Y2: 39 | Z2: 40 | AA2: 41 | AB2: 42 | AC2: 43 | AD2: 44 | AE2: 45 | AF2: 46 | AG2: 47 | AH2: 48 | AI2: 49 | AJ2: 50 | AK2: 51 | AL2: 52 | AM2: 53 | AN2: 54 | AO2: 55 | AP2: 56 | AQ2: 57 | AR2: 58 | AS2: 59 | AT2: 60 | AU2: 61 | AV2: 62 | AW2: 63 | AX2: 64 | AY2: 65 | AZ2: 66 | BA2: 67 | BB2: 68 | BC2: 69 | BD2: 70
A4: =INT(457468*A5^(-1.475)) -> 36
A5: 595
E18: 0.69 | F18: 0.52 | G18: 0.44 | H18: 0.385 | I18: 0.35 | J18: 0.323 | L18: 0.29
B19: 0 | C19: 2 | D19: 4 | E19: 6 | F19: 8 | G19: 10 | H19: 12 | I19: 14 | J19: 16 | K19: 18 | L19: 20
